BEGIN:VCALENDAR
VERSION:2.0
PRODID:-//Atelier du Zephyr - ECPv6.15.20//NONSGML v1.0//EN
CALSCALE:GREGORIAN
METHOD:PUBLISH
X-ORIGINAL-URL:https://atelierduzephyr.org
X-WR-CALDESC:Évènements pour Atelier du Zephyr
REFRESH-INTERVAL;VALUE=DURATION:PT1H
X-Robots-Tag:noindex
X-PUBLISHED-TTL:PT1H
BEGIN:VTIMEZONE
TZID:Europe/Paris
BEGIN:DAYLIGHT
TZOFFSETFROM:+0100
TZOFFSETTO:+0200
TZNAME:CEST
DTSTART:20220327T010000
END:DAYLIGHT
BEGIN:STANDARD
TZOFFSETFROM:+0200
TZOFFSETTO:+0100
TZNAME:CET
DTSTART:20221030T010000
END:STANDARD
BEGIN:DAYLIGHT
TZOFFSETFROM:+0100
TZOFFSETTO:+0200
TZNAME:CEST
DTSTART:20230326T010000
END:DAYLIGHT
BEGIN:STANDARD
TZOFFSETFROM:+0200
TZOFFSETTO:+0100
TZNAME:CET
DTSTART:20231029T010000
END:STANDARD
BEGIN:DAYLIGHT
TZOFFSETFROM:+0100
TZOFFSETTO:+0200
TZNAME:CEST
DTSTART:20240331T010000
END:DAYLIGHT
BEGIN:STANDARD
TZOFFSETFROM:+0200
TZOFFSETTO:+0100
TZNAME:CET
DTSTART:20241027T010000
END:STANDARD
END:VTIMEZONE
BEGIN:VEVENT
DTSTART;TZID=Europe/Paris:20230904T183000
DTEND;TZID=Europe/Paris:20230904T210000
DTSTAMP:20260422T151030
CREATED:20230531T082311Z
LAST-MODIFIED:20230606T092302Z
UID:4046-1693852200-1693861200@atelierduzephyr.org
SUMMARY:Initiation à l'électricité domestique - Lyon 7
DESCRIPTION:Venez apprendre les bases de l’électricité domestique. \nUn atelier théorique pour (ré)apprendre les bases de l’électricité et se former en une soirée pour résoudre les pannes courantes\, ajouter une prise ou un éclairage\, préserver la sécurité d’une installation… Et ensuite\, une partie pratique pour mettre en application en fabriquant une mini-installation électrique. \nAtelier pour 5 à 10 personnes – Prix libre et conscient \nPour s’inscrire c’est ci-dessous ou sur HelloAsso \, cependant a chaque atelier des personnes inscrite ne se présente pas\, or l’accompte versé ne suffit pas a payer le salarié qui organise cette initiation. Si jamais vous ne pouvez pas venir merci de nous prévenir. Si la situation persiste nous arrêterons d’organiser ce genre d’initiation.
URL:https://atelierduzephyr.org/evenement/initiation-a-lelectricite-lyon-7-sept-23/
LOCATION:Atelier Soudé\, Le Croiseur\, 4 Rue Croix-Barret\, Lyon\, 69007\, France
CATEGORIES:Atelier - Initiation,Atelier électricité
ATTACH;FMTTYPE=image/jpeg:https://atelierduzephyr.org/wp-content/uploads/2021/12/electricien.jpeg
END:VEVENT
END:VCALENDAR